BEGIN:VCALENDAR
VERSION:2.0
PRODID:-//Arizona Soccer Association - ECPv6.15.17.1//NONSGML v1.0//EN
CALSCALE:GREGORIAN
METHOD:PUBLISH
X-ORIGINAL-URL:https://www.azsoccerassociation.org
X-WR-CALDESC:Events for Arizona Soccer Association
REFRESH-INTERVAL;VALUE=DURATION:PT1H
X-Robots-Tag:noindex
X-PUBLISHED-TTL:PT1H
BEGIN:VTIMEZONE
TZID:UTC
BEGIN:STANDARD
TZOFFSETFROM:+0000
TZOFFSETTO:+0000
TZNAME:UTC
DTSTART:20250101T000000
END:STANDARD
END:VTIMEZONE
BEGIN:VEVENT
DTSTART;VALUE=DATE:20260522
DTEND;VALUE=DATE:20260525
DTSTAMP:20260424T034828
CREATED:20230830T075008Z
LAST-MODIFIED:20250828T225138Z
UID:10000032-1779408000-1779667199@www.azsoccerassociation.org
SUMMARY:Kickin' In The Pines Boys
DESCRIPTION:
URL:https://www.azsoccerassociation.org/event/kickin-in-the-pines-boys/
END:VEVENT
END:VCALENDAR